BEGIN:VCALENDAR
VERSION:2.0
PRODID:-//The Marylebone Mountaineering Club - ECPv6.15.20//NONSGML v1.0//EN
CALSCALE:GREGORIAN
METHOD:PUBLISH
X-WR-CALNAME:The Marylebone Mountaineering Club
X-ORIGINAL-URL:https://themmc.org.uk
X-WR-CALDESC:Events for The Marylebone Mountaineering Club
REFRESH-INTERVAL;VALUE=DURATION:PT1H
X-Robots-Tag:noindex
X-PUBLISHED-TTL:PT1H
BEGIN:VTIMEZONE
TZID:UTC
BEGIN:STANDARD
TZOFFSETFROM:+0000
TZOFFSETTO:+0000
TZNAME:UTC
DTSTART:20250101T000000
END:STANDARD
END:VTIMEZONE
BEGIN:VEVENT
DTSTART;TZID=UTC:20260423T180000
DTEND;TZID=UTC:20260423T200000
DTSTAMP:20260423T145157
CREATED:20260409T194247Z
LAST-MODIFIED:20260409T194247Z
UID:14876-1776967200-1776974400@themmc.org.uk
SUMMARY:Social Climb - The Castle
DESCRIPTION:The Castle seems to attract MMC climbers like a magnet. You’ll usually find a few of our members hanging off the walls there\, so come along and join the chaos for an afternoon of climbing. \n\nDate: Thursday 23 April 2026\nTime: 6 pm onwards\nClosest Station: Manor House Underground Station (Piccadilly Line)\nOrganiser: Mo – socialsec@themmc.org.uk\nSign up: https://forms.gle/mcsAr3Go61sbreQ28\nPub/Foods: Optional visit to the Brownsood pub after climbing for drinks/dinner.\n\n\nProspectives – All prospective members to the club must let us know they are joining us so we can look out for you\, and as a prerequisite to joining our Bowles climbing meet on April the 18th\, and our North Wales trad climbing training meet in May\, all prospective members will need an official belay check\, so please join us on this social to check your belay technique. \nMembers – you’re more than welcome to join! Let us know if you’re coming along. \nNon-Castle members will need to pre-book or pay on arrival. Please check their website.  \nIf you do not have your own climbing shoes\, harness or belay device you should be able to hire them from their shop. \nIf you want to lead climb\, we would suggest you bring your own single rope. A 30m rope would be ideal\, but any length will work. \nThis is not a training session\, but we should have experienced members on hand to observe your belaying technique if you are new to the club\, or you’d like us to observe any rusty skills post-long periods off climbing. \nThe BMC recognises that climbing and mountaineering are activities with a danger of personal injury or death. Participants in these activities should be aware of and accept these risks and be responsible for their own actions.
URL:https://themmc.org.uk/meet/social-climb-the-castle-6/
LOCATION:Castle Climbing Wall\, The Castle Climbing Centre\, Green Lanes\, London\, N4 2HA\, United Kingdom
CATEGORIES:Climbing,Socials
ATTACH;FMTTYPE=image/png:https://themmc.org.uk/wp-content/uploads/2025/04/image_2025-02-18_182229795-1.png
END:VEVENT
END:VCALENDAR