BEGIN:VCALENDAR
VERSION:2.0
PRODID:-//The Marylebone Mountaineering Club - ECPv6.15.20//NONSGML v1.0//EN
CALSCALE:GREGORIAN
METHOD:PUBLISH
X-ORIGINAL-URL:https://themmc.org.uk
X-WR-CALDESC:Events for The Marylebone Mountaineering Club
REFRESH-INTERVAL;VALUE=DURATION:PT1H
X-Robots-Tag:noindex
X-PUBLISHED-TTL:PT1H
BEGIN:VTIMEZONE
TZID:UTC
BEGIN:STANDARD
TZOFFSETFROM:+0000
TZOFFSETTO:+0000
TZNAME:UTC
DTSTART:20150101T000000
END:STANDARD
END:VTIMEZONE
BEGIN:VEVENT
DTSTART;VALUE=DATE:20160617
DTEND;VALUE=DATE:20160620
DTSTAMP:20260421T124614
CREATED:20160204T171022Z
LAST-MODIFIED:20170414T133530Z
UID:3338-1466121600-1466380799@themmc.org.uk
SUMMARY:Swanage / Portland - 17th - 19th June
DESCRIPTION:One of the most stunning coastlines in the UK\, it’s no surprise that the Jurassic Coast is a World Heritage Site. \nThe limestone cliffs of Swanage are a 20-minute walk from the campsite\, where both trad and sport climbing are available. You can also drive to Portland which offers almost exclusively sport routes. \nThe South West Coastal path is a short and pleasant walk from Tom’s Field and it’s possible to do circular walks from the coastline. \nAnd if all this isn’t enough then the Jurassic Coast also offers the opportunity to spot well preserved fossils and dinosaur footprints!
URL:https://themmc.org.uk/meet/swanage-portland-17th-19th-june/
LOCATION:Tom’s Field\, Tom's Field Road\, Swanage\, BH19 3HN\, United Kingdom
CATEGORIES:Camping,Climbing,Hiking,Meets
ATTACH;FMTTYPE=image/jpeg:https://themmc.org.uk/wp-content/uploads/2013/12/Dorset20110710.jpg
ORGANIZER;CN="Chuck":MAILTO:swanage@themmc.org.uk
END:VEVENT
BEGIN:VEVENT
DTSTART;VALUE=DATE:20160621
DTEND;VALUE=DATE:20160704
DTSTAMP:20260421T124614
CREATED:20160204T172735Z
LAST-MODIFIED:20170414T133530Z
UID:3347-1466467200-1467590399@themmc.org.uk
SUMMARY:French Alps - 21st June - 3rd July
DESCRIPTION:People are self-organisng for this meet. At least two groups are planning to go to Les Ecrins in the French Alps\, probably staying at the campsite in Ailefroide\, within the date range 21 June to 3 July. For those who haven’t already been it is a superb location and ideally suited to long adventurous multi-pitch sport rock routes\, short single pitch sport climbing\, Alpine hiking and a range of easier Alpine climbing routes. If you are interested in joining a group and haven’t already seen the various emails circulating please get in touch and we can link you in. (meets @ themmc.org.uk). \nHave a look at this meet report for a taster of what is in store – http://s699249225.websitehome.co.uk/2014/07/ \n \n 
URL:https://themmc.org.uk/meet/swiss-alps-2nd-10th-july/
LOCATION:Ailefroide\, Ecrins\, Pelvoux\, 05340\, France
CATEGORIES:Camping,Climbing,Hiking,Meets,Mountaineering
ATTACH;FMTTYPE=image/jpeg:https://themmc.org.uk/wp-content/uploads/2016/02/IMG_3624.JPG-nggid041882-ngg0dyn-0x0x100-00f0w010c010r110f110r010t010.jpg
END:VEVENT
END:VCALENDAR