BEGIN:VCALENDAR
VERSION:2.0
PRODID:-//The Marylebone Mountaineering Club - ECPv6.15.20//NONSGML v1.0//EN
CALSCALE:GREGORIAN
METHOD:PUBLISH
X-WR-CALNAME:The Marylebone Mountaineering Club
X-ORIGINAL-URL:https://themmc.org.uk
X-WR-CALDESC:Events for The Marylebone Mountaineering Club
REFRESH-INTERVAL;VALUE=DURATION:PT1H
X-Robots-Tag:noindex
X-PUBLISHED-TTL:PT1H
BEGIN:VTIMEZONE
TZID:UTC
BEGIN:STANDARD
TZOFFSETFROM:+0000
TZOFFSETTO:+0000
TZNAME:UTC
DTSTART:20150101T000000
END:STANDARD
END:VTIMEZONE
BEGIN:VEVENT
DTSTART;VALUE=DATE:20160916
DTEND;VALUE=DATE:20160919
DTSTAMP:20260419T163538
CREATED:20160204T171757Z
LAST-MODIFIED:20170414T133529Z
UID:3342-1473984000-1474243199@themmc.org.uk
SUMMARY:Wye Valley - 16th - 18th September
DESCRIPTION:The Wye Valley has trad single and multi pitch climbing available on the limestone river valley cliffs as well as great walking or canoeing along the river. The campsite has a relaxed with real campfires. \nHere you will find all styles of climbing across a wide range of grades generally on limestone rock. Symonds Yat\, Shorncliff and Wyndcliff offer mainly single-pitch traditional routes. \nThe Wye Valley is also excellent walking territory\, offering the dedicated hiker a wealth of interest and variety – from spectacular viewpoints overlooking the Wye to quiet wooded trails. \nPerhaps the most unspoilt river valley in Britain\, the Wye flows though breathtaking scenery rich in both Welsh and English history. Don’t miss out!
URL:https://themmc.org.uk/meet/wye-valley-16th-18th-september/
LOCATION:Beeches Farm\, Miss Graces Lane\, Tidenham Chase\, Chepstow\, Monmouthshire\, NP16 7JR\, United Kingdom
CATEGORIES:Camping,Climbing,Hiking,Meets
ATTACH;FMTTYPE=image/jpeg:https://themmc.org.uk/wp-content/uploads/2016/02/symonds-yat.jpg
ORGANIZER;CN="Wendy Kewley":MAILTO:wyevalley@themmc.org.uk
END:VEVENT
BEGIN:VEVENT
DTSTART;VALUE=DATE:20160923
DTEND;VALUE=DATE:20160926
DTSTAMP:20260419T163538
CREATED:20160204T171928Z
LAST-MODIFIED:20170414T133529Z
UID:3343-1474588800-1474847999@themmc.org.uk
SUMMARY:Font - 23rd - 25th September
DESCRIPTION:The best bouldering in Europe it’s as simple as that. \n  \nWhere \nLa Musardiere campsite just outside Milly-la-Foret on the edge of the Trois Pignons Forest.  We will be travelling by Eurotunnel or ferry so please try and get in touch early as this will make organising travel a lot easier.  If you wish to make other travel plans let me know and I’ll do my best to accommodate. \nWhat to bring \nThe regular camping kit and a pair of climbing shoes (left and right Nick).  There are quite a number of bouldering mats among the regulars so this is not essential but if you have one bring it.  The camp site is a fair walk from the town and the weather is normally mild enough that cooking in the camp site is fun so bring a stove or at the least a plate and gratitude to anyone who brings a bit pot. \nHow to book \nJust let me know if you wish to come and I’ll endeavour to organise transport.  No need to pay in advance but please remember (particularly if you are a passenger) that people will be booking ferries and will be out of pocket if you pull out.  The camping is about 10 euros per night for reference.
URL:https://themmc.org.uk/meet/font-23rd-25th-september/
LOCATION:La Musardière Campsite\, Route des Grandes Vallées\, Milly-la-Forêt\, 91490\, France
CATEGORIES:Camping,Climbing,Meets
ATTACH;FMTTYPE=image/jpeg:https://themmc.org.uk/wp-content/uploads/2015/09/12038451_10153042621892102_3526821679200258250_n.jpg
ORGANIZER;CN="Simon Menzies-Conacher":MAILTO:font@themmc.org.uk
END:VEVENT
END:VCALENDAR