BEGIN:VCALENDAR
VERSION:2.0
PRODID:-//The Marylebone Mountaineering Club - ECPv6.15.20//NONSGML v1.0//EN
CALSCALE:GREGORIAN
METHOD:PUBLISH
X-WR-CALNAME:The Marylebone Mountaineering Club
X-ORIGINAL-URL:https://themmc.org.uk
X-WR-CALDESC:Events for The Marylebone Mountaineering Club
REFRESH-INTERVAL;VALUE=DURATION:PT1H
X-Robots-Tag:noindex
X-PUBLISHED-TTL:PT1H
BEGIN:VTIMEZONE
TZID:UTC
BEGIN:STANDARD
TZOFFSETFROM:+0000
TZOFFSETTO:+0000
TZNAME:UTC
DTSTART:20150101T000000
END:STANDARD
END:VTIMEZONE
BEGIN:VEVENT
DTSTART;VALUE=DATE:20161021
DTEND;VALUE=DATE:20161024
DTSTAMP:20260419T150752
CREATED:20160204T172049Z
LAST-MODIFIED:20170414T133529Z
UID:3344-1477008000-1477267199@themmc.org.uk
SUMMARY:The Roaches\, Western Peaks - 21st - 23rd October
DESCRIPTION:The first bunkhouse meet of the autumn\, the Peak District’s Roaches is described as “a place of pilgrimage for disciples of fist-jamming and pebble-pulling\, a site of ritual observance for devout boulderers”. The gritstone here is diverse with classic routes across every grade from pleasant VDiffs through to E8 testpieces. \nOne of the most dramatic landscapes in Britain\, the Roaches also offers interesting walking\, including a circular route in the footsteps of Sir Gawain and the Green Knight. Step back to the 14th-century as you head along the ridge and then down the far side through a magical fairytale forest. \nFor those with the need for speed\, there’s also the chance to go mountain biking not far from the Roaches too! \n  \n \nValkyrie (VS 3*)
URL:https://themmc.org.uk/meet/the-roaches-western-peaks-21st-23rd-october/
CATEGORIES:Climbing,Hiking,Meets,Mountain Biking
ATTACH;FMTTYPE=image/jpeg:https://themmc.org.uk/wp-content/uploads/2016/02/roaches-2.jpg
ORGANIZER;CN="Sara Gutierrez":MAILTO:peaks@themmc.org.uk
END:VEVENT
END:VCALENDAR